BEGIN:VCALENDAR
VERSION:2.0
PRODID:-//BEVA Global Management - ECPv6.15.17//NONSGML v1.0//EN
CALSCALE:GREGORIAN
METHOD:PUBLISH
X-WR-CALNAME:BEVA Global Management
X-ORIGINAL-URL:https://bevaglobal.com
X-WR-CALDESC:Events for BEVA Global Management
REFRESH-INTERVAL;VALUE=DURATION:PT1H
X-Robots-Tag:noindex
X-PUBLISHED-TTL:PT1H
BEGIN:VTIMEZONE
TZID:America/Toronto
BEGIN:DAYLIGHT
TZOFFSETFROM:-0500
TZOFFSETTO:-0400
TZNAME:EDT
DTSTART:20250309T070000
END:DAYLIGHT
BEGIN:STANDARD
TZOFFSETFROM:-0400
TZOFFSETTO:-0500
TZNAME:EST
DTSTART:20251102T060000
END:STANDARD
BEGIN:DAYLIGHT
TZOFFSETFROM:-0500
TZOFFSETTO:-0400
TZNAME:EDT
DTSTART:20260308T070000
END:DAYLIGHT
BEGIN:STANDARD
TZOFFSETFROM:-0400
TZOFFSETTO:-0500
TZNAME:EST
DTSTART:20261101T060000
END:STANDARD
BEGIN:DAYLIGHT
TZOFFSETFROM:-0500
TZOFFSETTO:-0400
TZNAME:EDT
DTSTART:20270314T070000
END:DAYLIGHT
BEGIN:STANDARD
TZOFFSETFROM:-0400
TZOFFSETTO:-0500
TZNAME:EST
DTSTART:20271107T060000
END:STANDARD
END:VTIMEZONE
BEGIN:VEVENT
DTSTART;TZID=America/Toronto:20260420T090000
DTEND;TZID=America/Toronto:20260420T160000
DTSTAMP:20260424T051833
CREATED:20250330T135856Z
LAST-MODIFIED:20260226T185004Z
UID:37661-1776675600-1776700800@bevaglobal.com
SUMMARY:Entrepreneurship 
DESCRIPTION:Learn in a classroom environment with your peers\, virtually\, with a BEVA® instructor online. \nCourse Length: 1 Day \nTarget Audience: General \nWould you to be your own boss? Have you ever dreamed of starting your own business? Don’t know what to do about your great business idea? If you have ever thought about these situations then you need our entrepreneurship workshop. \nLet our BEVA Entrepreneurship course help you achieve your dreams. Being an entrepreneur can be full of risks. These risks are minimized through drafting a business plan\, knowing your competition\, and successful marketing. All these and more can be found in our Entrepreneurship workshop. \nCourse Objectives: \n\nUnderstand how to start a business\nDevelop a business plan\nGet financing for your business\nHire and train employees\nRun your business\nGrow your business\n\nThis is a highly interactive and participative workshop. \n Supplement Material \nA student manual is available for the learner to follow during the instructor’s presentation. \nBenefits to the participants \nThroughout the activities\, the learners will learn every steps of starting a business\, financing the business\, hire people and grow the business. \nCourse Evaluation \n A course evaluation will be completed by the learners once the course is finished. \nCertificate \nA BEVA® certificate of attendance will be provided once the participant completes the course. \nNote: The course outline may be subject to change.
URL:https://bevaglobal.com/event/entrepreneurship/
LOCATION:Online Instructor Led
CATEGORIES:Business
ORGANIZER;CN="BEVA Learning Institute":MAILTO:training-formation@bevaglobal.com
END:VEVENT
BEGIN:VEVENT
DTSTART;TZID=America/Toronto:20260420T090000
DTEND;TZID=America/Toronto:20260421T160000
DTSTAMP:20260424T051833
CREATED:20250418T200351Z
LAST-MODIFIED:20260226T193310Z
UID:38050-1776675600-1776787200@bevaglobal.com
SUMMARY:Effective Presentations and Meetings
DESCRIPTION:Learn in a classroom environment with your peers\, virtually\, with a BEVA® instructor online. \nCourse Length: 2 days \nTarget Audience: General \nLearning Objectives: \nThis BEVA course is ideal for those who fear making presentations and speaking up in meetings.  In a safe\, encouraging environment\, we will tackle the butterflies that play havoc with your self-confidence and career success. \nLearn how to make powerful presentations and get your point across in meetings. \nCourse Content: \n\nOvercoming public speaking nerves\nIncrease confidence\nConnect with your audience\nRhetorical triangle\nHandle challenging participants\nVisual aids\nImpromptu speaking skills\nPresentation do’s and don’ts\nEffectively get your point across in meetings\nPractical opportunities\n\nThis is a highly interactive and participative workshop.  Several self-evaluation tools will be used to assist in the learning process.  Participants will also work in teams and groups on several change management exercises and then come together in plenary for group discussion\, sharing and learning. \n Supplement Material \nA student manual is available for the learner to follow during the instructor’s presentation. \nBenefits to the participants \nThroughout the activities\, the learners will look at different ways to have effective presentations and  meetings \nCourse Evaluation \n A course evaluation will be completed by the learners once the course is finished. \nCertificate \nA BEVA® certificate of attendance will be provided once the participant completes the course. \nNote: The course outline may be subject to change. \n 
URL:https://bevaglobal.com/event/effective-presentations-and-meetings/
LOCATION:Online Instructor Led
CATEGORIES:Media and Communications Skills
ORGANIZER;CN="BEVA Learning Institute":MAILTO:training-formation@bevaglobal.com
END:VEVENT
END:VCALENDAR