BEGIN:VCALENDAR
VERSION:2.0
PRODID:-//BEVA Global Management - ECPv6.15.17//NONSGML v1.0//EN
CALSCALE:GREGORIAN
METHOD:PUBLISH
X-WR-CALNAME:BEVA Global Management
X-ORIGINAL-URL:https://bevaglobal.com
X-WR-CALDESC:Events for BEVA Global Management
REFRESH-INTERVAL;VALUE=DURATION:PT1H
X-Robots-Tag:noindex
X-PUBLISHED-TTL:PT1H
BEGIN:VTIMEZONE
TZID:America/Toronto
BEGIN:DAYLIGHT
TZOFFSETFROM:-0500
TZOFFSETTO:-0400
TZNAME:EDT
DTSTART:20250309T070000
END:DAYLIGHT
BEGIN:STANDARD
TZOFFSETFROM:-0400
TZOFFSETTO:-0500
TZNAME:EST
DTSTART:20251102T060000
END:STANDARD
BEGIN:DAYLIGHT
TZOFFSETFROM:-0500
TZOFFSETTO:-0400
TZNAME:EDT
DTSTART:20260308T070000
END:DAYLIGHT
BEGIN:STANDARD
TZOFFSETFROM:-0400
TZOFFSETTO:-0500
TZNAME:EST
DTSTART:20261101T060000
END:STANDARD
BEGIN:DAYLIGHT
TZOFFSETFROM:-0500
TZOFFSETTO:-0400
TZNAME:EDT
DTSTART:20270314T070000
END:DAYLIGHT
BEGIN:STANDARD
TZOFFSETFROM:-0400
TZOFFSETTO:-0500
TZNAME:EST
DTSTART:20271107T060000
END:STANDARD
END:VTIMEZONE
BEGIN:VEVENT
DTSTART;TZID=America/Toronto:20260422T090000
DTEND;TZID=America/Toronto:20260422T160000
DTSTAMP:20260422T023738
CREATED:20250411T121348Z
LAST-MODIFIED:20260226T194630Z
UID:37743-1776848400-1776873600@bevaglobal.com
SUMMARY:Dealing with Stress
DESCRIPTION:Learn in a classroom environment with your peers\, virtually\, with a BEVA® instructor online. \nCourse Length:   1 Day \nTarget Audience: General \nLearning Objectives:\nDevelop greater self-awareness and personal stress management abilities by: clarifying the personal meaning of stress; identifying personal sources of stress; becoming aware of personal coping strategies; developing new coping strategies; and developing a personal action plan. Explore the patterns and barriers that keep us from adapting to change. Move from being overwhelmed to being in charge\, and establishing balance in our lives by using strengths and finding ways to enhance them. \nCourse Content:\n\nDefinition of stress\nSource of stress\nPersonal coping strategies to minimize stress\nDeveloping new coping strategies\nCreating a personal action plan\n\nSupplement Material \nA student manual is available for the learner to follow during the instructor’s presentation. \nBenefits to the participants \nThroughout the activities\, the learners will look at various ways to deal with stress. \nCourse Evaluation \nA course evaluation will be completed by the learners once the course is finished. \nCertificate \nA BEVA® certificate of attendance will be provided once the participant completes the course. \nNote: The course outline may be subject to change. \n  \n 
URL:https://bevaglobal.com/event/dealing-with-stress/
LOCATION:Online Instructor Led
CATEGORIES:Health in the Workplace and Personal Wellness
ORGANIZER;CN="BEVA Learning Institute":MAILTO:training-formation@bevaglobal.com
END:VEVENT
END:VCALENDAR